Workbook
Name Anno_limite_JK: Dati!$L$7
Name Anno_limite_under_15: Dati!$L$4
Name Cintura_limite_JK: Dati!$L$8
Name Eta_limite_JK: Dati!$L$6
Name Nr_cintura_limite_JK: Dati!$L$9
Name Quota_iscrizione_atleta_U15: Dati!$L$1
Name Quota_iscrizione_coppia_O15: Dati!$L$14
Name Quota_iscrizione_coppia_U15: Dati!$L$2
Name Quota_iscrizione_entrambi_O15: Dati!$L$13
Name Quota_iscrizione_kata_O15: Dati!$L$11
Name Quota_iscrizione_kumite_O15: Dati!$L$12
Name Sotto_limit_per_JK: Dati!$N$16

Sheet Iscrizioni
A1: 2° Trofeo Alfieri - Città di Torino
A2: Modulo d'iscrizione | F2: Versare quota iscrizioni su IBAN
A3: Iscrizioni entro il 15 ottobre 2026 | F3: IT52 M030 7502 200C C850 1110 661
A4: Per informazioni +39 347 730 5522 | F4: conto intestato a ASD Karate Alfieri
A5: Inviare modulo compilato a | C5: karatealfieri@gmail.com | F5: ="Causale: Trofeo Alfieri "&C7 -> Causale: Trofeo Alfieri
A7: Società: | D7: =IF(LEN(C7)<3," *","") -> * | F7: Quota totale iscrizioni: | I7: =SUM(I16:I47)+SUM(I50:I55)+SUM(I59:I90)+SUM(I93:I98) -> 0
A8: Regione: | D8: =IF(LEN(C8)<3," *","") -> *
A9: Riferente tecnico: | D9: =IF(LEN(C9)<3," *","") -> *
A10: Indirizzo email: | D10: =IF(LEN(C10)<3," *","") -> *
A11: Telefono: | D11: =IF(LEN(C11)<3," *","") -> *
F12: Per la compilazione usare i menu a tendina
A14: ="Atleti UNDER 15 (nati dal "&Anno_limite_under_15&") - mattina" -> Atleti UNDER 15 (nati dal 2012) - mattina
A15: Nr. | B15: Nome | C15: Cognome | D15: Sesso | E15: Data nascita | F15: Cintura | G15: Kata ind. | H15: Kumite | I15: Quota
A16: - | B16: Mario | C16: Rossi | D16: M | E16: 43830 | F16: Giallo-arancio | G16: Sì | H16: JK | I16: - | J16: =B16 & " "& C16 -> Mario Rossi
A17: =IF(LEN(J17)>=2,MAX(A$16:A16)+1,"") | I17: =IF(AND(LEN(J17)>1,LEN(G17)>1,LEN(H17)>1),IF(AND(G17="No",H17="No"),0,Quota_iscrizione_atleta_U15),"") | J17: =B17 & " "& C17 | K17: =IF(LEN(J17)<2,"",IF(LEN(D17)<1,Dati!$N$4,IF(LEN(E17)<1,Dati!$N$5,IF(NOT(ISNUMBER(YEAR(E17))),Dati!$N$6,IF(YEAR(E17)<Anno_limite_under_15,Dati!$N$10,IF(LEN(F17)<1,Dati!$N$7,IF(LEN(G17)<1,Dati!$N$8,IF(LEN(H17)<1,Dati!$N$9,IF(AND(H17="JK",OR(YEAR(E17)>Anno_limite_JK,M17<Nr_cintura_limite_JK)),Dati!$N$16,"✓"))))))))) | L17: =""&F17 | M17: =IF(LEN(F17)>0,MATCH(F17,Cintura[Cintura],0),0) -> 0
A18: =IF(LEN(J18)>=2,MAX(A$16:A17)+1,"") | I18: =IF(AND(LEN(J18)>1,LEN(G18)>1,LEN(H18)>1),IF(AND(G18="No",H18="No"),0,Quota_iscrizione_atleta_U15),"") | J18: =B18 & " "& C18 | K18: =IF(LEN(J18)<2,"",IF(LEN(D18)<1,Dati!$N$4,IF(LEN(E18)<1,Dati!$N$5,IF(NOT(ISNUMBER(YEAR(E18))),Dati!$N$6,IF(YEAR(E18)<Anno_limite_under_15,Dati!$N$10,IF(LEN(F18)<1,Dati!$N$7,IF(LEN(G18)<1,Dati!$N$8,IF(LEN(H18)<1,Dati!$N$9,IF(AND(H18="JK",OR(YEAR(E18)>Anno_limite_JK,M18<Nr_cintura_limite_JK)),Dati!$N$16,"✓"))))))))) | L18: =""&F18 | M18: =IF(LEN(F18)>0,MATCH(F18,Cintura[Cintura],0),0) -> 0
A19: =IF(LEN(J19)>=2,MAX(A$16:A18)+1,"") | I19: =IF(AND(LEN(J19)>1,LEN(G19)>1,LEN(H19)>1),IF(AND(G19="No",H19="No"),0,Quota_iscrizione_atleta_U15),"") | J19: =B19 & " "& C19 | K19: =IF(LEN(J19)<2,"",IF(LEN(D19)<1,Dati!$N$4,IF(LEN(E19)<1,Dati!$N$5,IF(NOT(ISNUMBER(YEAR(E19))),Dati!$N$6,IF(YEAR(E19)<Anno_limite_under_15,Dati!$N$10,IF(LEN(F19)<1,Dati!$N$7,IF(LEN(G19)<1,Dati!$N$8,IF(LEN(H19)<1,Dati!$N$9,IF(AND(H19="JK",OR(YEAR(E19)>Anno_limite_JK,M19<Nr_cintura_limite_JK)),Dati!$N$16,"✓"))))))))) | L19: =""&F19 | M19: =IF(LEN(F19)>0,MATCH(F19,Cintura[Cintura],0),0) -> 0
A20: =IF(LEN(J20)>=2,MAX(A$16:A19)+1,"") | I20: =IF(AND(LEN(J20)>1,LEN(G20)>1,LEN(H20)>1),IF(AND(G20="No",H20="No"),0,Quota_iscrizione_atleta_U15),"") | J20: =B20 & " "& C20 | K20: =IF(LEN(J20)<2,"",IF(LEN(D20)<1,Dati!$N$4,IF(LEN(E20)<1,Dati!$N$5,IF(NOT(ISNUMBER(YEAR(E20))),Dati!$N$6,IF(YEAR(E20)<Anno_limite_under_15,Dati!$N$10,IF(LEN(F20)<1,Dati!$N$7,IF(LEN(G20)<1,Dati!$N$8,IF(LEN(H20)<1,Dati!$N$9,IF(AND(H20="JK",OR(YEAR(E20)>Anno_limite_JK,M20<Nr_cintura_limite_JK)),Dati!$N$16,"✓"))))))))) | L20: =""&F20 | M20: =IF(LEN(F20)>0,MATCH(F20,Cintura[Cintura],0),0) -> 0
A21: =IF(LEN(J21)>=2,MAX(A$16:A20)+1,"") | I21: =IF(AND(LEN(J21)>1,LEN(G21)>1,LEN(H21)>1),IF(AND(G21="No",H21="No"),0,Quota_iscrizione_atleta_U15),"") | J21: =B21 & " "& C21 | K21: =IF(LEN(J21)<2,"",IF(LEN(D21)<1,Dati!$N$4,IF(LEN(E21)<1,Dati!$N$5,IF(NOT(ISNUMBER(YEAR(E21))),Dati!$N$6,IF(YEAR(E21)<Anno_limite_under_15,Dati!$N$10,IF(LEN(F21)<1,Dati!$N$7,IF(LEN(G21)<1,Dati!$N$8,IF(LEN(H21)<1,Dati!$N$9,IF(AND(H21="JK",OR(YEAR(E21)>Anno_limite_JK,M21<Nr_cintura_limite_JK)),Dati!$N$16,"✓"))))))))) | L21: =""&F21 | M21: =IF(LEN(F21)>0,MATCH(F21,Cintura[Cintura],0),0) -> 0
A22: =IF(LEN(J22)>=2,MAX(A$16:A21)+1,"") | I22: =IF(AND(LEN(J22)>1,LEN(G22)>1,LEN(H22)>1),IF(AND(G22="No",H22="No"),0,Quota_iscrizione_atleta_U15),"") | J22: =B22 & " "& C22 | K22: =IF(LEN(J22)<2,"",IF(LEN(D22)<1,Dati!$N$4,IF(LEN(E22)<1,Dati!$N$5,IF(NOT(ISNUMBER(YEAR(E22))),Dati!$N$6,IF(YEAR(E22)<Anno_limite_under_15,Dati!$N$10,IF(LEN(F22)<1,Dati!$N$7,IF(LEN(G22)<1,Dati!$N$8,IF(LEN(H22)<1,Dati!$N$9,IF(AND(H22="JK",OR(YEAR(E22)>Anno_limite_JK,M22<Nr_cintura_limite_JK)),Dati!$N$16,"✓"))))))))) | L22: =""&F22 | M22: =IF(LEN(F22)>0,MATCH(F22,Cintura[Cintura],0),0) -> 0
A23: =IF(LEN(J23)>=2,MAX(A$16:A22)+1,"") | I23: =IF(AND(LEN(J23)>1,LEN(G23)>1,LEN(H23)>1),IF(AND(G23="No",H23="No"),0,Quota_iscrizione_atleta_U15),"") | J23: =B23 & " "& C23 | K23: =IF(LEN(J23)<2,"",IF(LEN(D23)<1,Dati!$N$4,IF(LEN(E23)<1,Dati!$N$5,IF(NOT(ISNUMBER(YEAR(E23))),Dati!$N$6,IF(YEAR(E23)<Anno_limite_under_15,Dati!$N$10,IF(LEN(F23)<1,Dati!$N$7,IF(LEN(G23)<1,Dati!$N$8,IF(LEN(H23)<1,Dati!$N$9,IF(AND(H23="JK",OR(YEAR(E23)>Anno_limite_JK,M23<Nr_cintura_limite_JK)),Dati!$N$16,"✓"))))))))) | L23: =""&F23 | M23: =IF(LEN(F23)>0,MATCH(F23,Cintura[Cintura],0),0) -> 0
A24: =IF(LEN(J24)>=2,MAX(A$16:A23)+1,"") | I24: =IF(AND(LEN(J24)>1,LEN(G24)>1,LEN(H24)>1),IF(AND(G24="No",H24="No"),0,Quota_iscrizione_atleta_U15),"") | J24: =B24 & " "& C24 | K24: =IF(LEN(J24)<2,"",IF(LEN(D24)<1,Dati!$N$4,IF(LEN(E24)<1,Dati!$N$5,IF(NOT(ISNUMBER(YEAR(E24))),Dati!$N$6,IF(YEAR(E24)<Anno_limite_under_15,Dati!$N$10,IF(LEN(F24)<1,Dati!$N$7,IF(LEN(G24)<1,Dati!$N$8,IF(LEN(H24)<1,Dati!$N$9,IF(AND(H24="JK",OR(YEAR(E24)>Anno_limite_JK,M24<Nr_cintura_limite_JK)),Dati!$N$16,"✓"))))))))) | L24: =""&F24 | M24: =IF(LEN(F24)>0,MATCH(F24,Cintura[Cintura],0),0) -> 0
A25: =IF(LEN(J25)>=2,MAX(A$16:A24)+1,"") | I25: =IF(AND(LEN(J25)>1,LEN(G25)>1,LEN(H25)>1),IF(AND(G25="No",H25="No"),0,Quota_iscrizione_atleta_U15),"") | J25: =B25 & " "& C25 | K25: =IF(LEN(J25)<2,"",IF(LEN(D25)<1,Dati!$N$4,IF(LEN(E25)<1,Dati!$N$5,IF(NOT(ISNUMBER(YEAR(E25))),Dati!$N$6,IF(YEAR(E25)<Anno_limite_under_15,Dati!$N$10,IF(LEN(F25)<1,Dati!$N$7,IF(LEN(G25)<1,Dati!$N$8,IF(LEN(H25)<1,Dati!$N$9,IF(AND(H25="JK",OR(YEAR(E25)>Anno_limite_JK,M25<Nr_cintura_limite_JK)),Dati!$N$16,"✓"))))))))) | L25: =""&F25 | M25: =IF(LEN(F25)>0,MATCH(F25,Cintura[Cintura],0),0) -> 0
A26: =IF(LEN(J26)>=2,MAX(A$16:A25)+1,"") | I26: =IF(AND(LEN(J26)>1,LEN(G26)>1,LEN(H26)>1),IF(AND(G26="No",H26="No"),0,Quota_iscrizione_atleta_U15),"") | J26: =B26 & " "& C26 | K26: =IF(LEN(J26)<2,"",IF(LEN(D26)<1,Dati!$N$4,IF(LEN(E26)<1,Dati!$N$5,IF(NOT(ISNUMBER(YEAR(E26))),Dati!$N$6,IF(YEAR(E26)<Anno_limite_under_15,Dati!$N$10,IF(LEN(F26)<1,Dati!$N$7,IF(LEN(G26)<1,Dati!$N$8,IF(LEN(H26)<1,Dati!$N$9,IF(AND(H26="JK",OR(YEAR(E26)>Anno_limite_JK,M26<Nr_cintura_limite_JK)),Dati!$N$16,"✓"))))))))) | L26: =""&F26 | M26: =IF(LEN(F26)>0,MATCH(F26,Cintura[Cintura],0),0) -> 0
A27: =IF(LEN(J27)>=2,MAX(A$16:A26)+1,"") | I27: =IF(AND(LEN(J27)>1,LEN(G27)>1,LEN(H27)>1),IF(AND(G27="No",H27="No"),0,Quota_iscrizione_atleta_U15),"") | J27: =B27 & " "& C27 | K27: =IF(LEN(J27)<2,"",IF(LEN(D27)<1,Dati!$N$4,IF(LEN(E27)<1,Dati!$N$5,IF(NOT(ISNUMBER(YEAR(E27))),Dati!$N$6,IF(YEAR(E27)<Anno_limite_under_15,Dati!$N$10,IF(LEN(F27)<1,Dati!$N$7,IF(LEN(G27)<1,Dati!$N$8,IF(LEN(H27)<1,Dati!$N$9,IF(AND(H27="JK",OR(YEAR(E27)>Anno_limite_JK,M27<Nr_cintura_limite_JK)),Dati!$N$16,"✓"))))))))) | L27: =""&F27 | M27: =IF(LEN(F27)>0,MATCH(F27,Cintura[Cintura],0),0) -> 0
A28: =IF(LEN(J28)>=2,MAX(A$16:A27)+1,"") | I28: =IF(AND(LEN(J28)>1,LEN(G28)>1,LEN(H28)>1),IF(AND(G28="No",H28="No"),0,Quota_iscrizione_atleta_U15),"") | J28: =B28 & " "& C28 | K28: =IF(LEN(J28)<2,"",IF(LEN(D28)<1,Dati!$N$4,IF(LEN(E28)<1,Dati!$N$5,IF(NOT(ISNUMBER(YEAR(E28))),Dati!$N$6,IF(YEAR(E28)<Anno_limite_under_15,Dati!$N$10,IF(LEN(F28)<1,Dati!$N$7,IF(LEN(G28)<1,Dati!$N$8,IF(LEN(H28)<1,Dati!$N$9,IF(AND(H28="JK",OR(YEAR(E28)>Anno_limite_JK,M28<Nr_cintura_limite_JK)),Dati!$N$16,"✓"))))))))) | L28: =""&F28 | M28: =IF(LEN(F28)>0,MATCH(F28,Cintura[Cintura],0),0) -> 0
... A46: =IF(LEN(J46)>=2,MAX(A$16:A45)+1,"") | I46: =IF(AND(LEN(J46)>1,LEN(G46)>1,LEN(H46)>1),IF(AND(G46="No",H46="No"),0,Quota_iscrizione_atleta_U15),"") | J46: =B46 & " "& C46 | K46: =IF(LEN(J46)<2,"",IF(LEN(D46)<1,Dati!$N$4,IF(LEN(E46)<1,Dati!$N$5,IF(NOT(ISNUMBER(YEAR(E46))),Dati!$N$6,IF(YEAR(E46)<Anno_limite_under_15,Dati!$N$10,IF(LEN(F46)<1,Dati!$N$7,IF(LEN(G46)<1,Dati!$N$8,IF(LEN(H46)<1,Dati!$N$9,IF(AND(H46="JK",OR(YEAR(E46)>Anno_limite_JK,M46<Nr_cintura_limite_JK)),Dati!$N$16,"✓"))))))))) | L46: =""&F46 | M46: =IF(LEN(F46)>0,MATCH(F46,Cintura[Cintura],0),0) -> 0
A47: Per aggiungere altri atleti, copiare l'intera ultima riga della tabella e inserirla prima di questa riga di testo
A49: Coppie di kata UNDER 15 | C49: Atleta 1 | D49: Atleta 2 | F49: Riserva (opzionale) | I49: Quota
A50: =Dati!$I$2 -> Bianca-gialla-arancio | I50: {=IF(LEN(TRIM(C50&D50&F50))<1,"",Quota_iscrizione_coppia_U15)} | K50: {=IF(AND(LEN(TRIM(C50))<1,LEN(TRIM(D50))<1),"",IF(LEN(TRIM(C50))<1,Dati!$N$12,IF(LEN(TRIM(D50))<1,Dati!$N$13,IF(SUMPRODUCT((C50:F50<>"")*(COUNTIF(C$50:F$55,C50:F50)>1))>0,Dati!$N$14,IF(MAX(L50:N50)>=7,Dati!$N$15,"✓")))))} | L50: =IF(LEN(TRIM(C50))<1,0,MATCH(VLOOKUP(C50,$J$17:$L$47,3,FALSE),Cintura[Cintura],0)) -> 0 | M50: =IF(LEN(TRIM(D50))<1,0,MATCH(VLOOKUP(D50,$J$17:$L$47,3,FALSE),Cintura[Cintura],0)) -> 0 | N50: =IF(LEN(TRIM(F50))<1,0,MATCH(VLOOKUP(F50,$J$17:$L$47,3,FALSE),Cintura[Cintura],0)) -> 0
A51: =Dati!$I$2 -> Bianca-gialla-arancio | I51: {=IF(LEN(TRIM(C51&D51&F51))<1,"",Quota_iscrizione_coppia_U15)} | K51: {=IF(AND(LEN(TRIM(C51))<1,LEN(TRIM(D51))<1),"",IF(LEN(TRIM(C51))<1,Dati!$N$12,IF(LEN(TRIM(D51))<1,Dati!$N$13,IF(SUMPRODUCT((C51:F51<>"")*(COUNTIF(C$50:F$55,C51:F51)>1))>0,Dati!$N$14,IF(MAX(L51:N51)>=7,Dati!$N$15,"✓")))))} | L51: =IF(LEN(TRIM(C51))<1,0,MATCH(VLOOKUP(C51,$J$17:$L$47,3,FALSE),Cintura[Cintura],0)) -> 0 | M51: =IF(LEN(TRIM(D51))<1,0,MATCH(VLOOKUP(D51,$J$17:$L$47,3,FALSE),Cintura[Cintura],0)) -> 0 | N51: =IF(LEN(TRIM(F51))<1,0,MATCH(VLOOKUP(F51,$J$17:$L$47,3,FALSE),Cintura[Cintura],0)) -> 0
A52: =Dati!$I$3 -> Verde-blu | I52: {=IF(LEN(TRIM(C52&D52&F52))<1,"",Quota_iscrizione_coppia_U15)} | K52: {=IF(AND(LEN(TRIM(C52))<1,LEN(TRIM(D52))<1),"",IF(LEN(TRIM(C52))<1,Dati!$N$12,IF(LEN(TRIM(D52))<1,Dati!$N$13,IF(SUMPRODUCT((C52:F52<>"")*(COUNTIF(C$50:F$55,C52:F52)>1))>0,Dati!$N$14,IF(MAX(L52:N52)>=11,Dati!$N$15,"✓")))))} | L52: =IF(LEN(TRIM(C52))<1,0,MATCH(VLOOKUP(C52,$J$17:$L$47,3,FALSE),Cintura[Cintura],0)) -> 0 | M52: =IF(LEN(TRIM(D52))<1,0,MATCH(VLOOKUP(D52,$J$17:$L$47,3,FALSE),Cintura[Cintura],0)) -> 0 | N52: =IF(LEN(TRIM(F52))<1,0,MATCH(VLOOKUP(F52,$J$17:$L$47,3,FALSE),Cintura[Cintura],0)) -> 0
A53: =Dati!$I$3 -> Verde-blu | I53: {=IF(LEN(TRIM(C53&D53&F53))<1,"",Quota_iscrizione_coppia_U15)} | K53: {=IF(AND(LEN(TRIM(C53))<1,LEN(TRIM(D53))<1),"",IF(LEN(TRIM(C53))<1,Dati!$N$12,IF(LEN(TRIM(D53))<1,Dati!$N$13,IF(SUMPRODUCT((C53:F53<>"")*(COUNTIF(C$50:F$55,C53:F53)>1))>0,Dati!$N$14,IF(MAX(L53:N53)>=11,Dati!$N$15,"✓")))))} | L53: =IF(LEN(TRIM(C53))<1,0,MATCH(VLOOKUP(C53,$J$17:$L$47,3,FALSE),Cintura[Cintura],0)) -> 0 | M53: =IF(LEN(TRIM(D53))<1,0,MATCH(VLOOKUP(D53,$J$17:$L$47,3,FALSE),Cintura[Cintura],0)) -> 0 | N53: =IF(LEN(TRIM(F53))<1,0,MATCH(VLOOKUP(F53,$J$17:$L$47,3,FALSE),Cintura[Cintura],0)) -> 0
A54: =Dati!$I$4 -> Marrone-nera | I54: {=IF(LEN(TRIM(C54&D54&F54))<1,"",Quota_iscrizione_coppia_U15)} | K54: {=IF(AND(LEN(TRIM(C54))<1,LEN(TRIM(D54))<1),"",IF(LEN(TRIM(C54))<1,Dati!$N$12,IF(LEN(TRIM(D54))<1,Dati!$N$13,IF(SUMPRODUCT((C54:F54<>"")*(COUNTIF(C$50:F$55,C54:F54)>1))>0,Dati!$N$14,"✓"))))} | L54: =IF(LEN(TRIM(C54))<1,0,MATCH(VLOOKUP(C54,$J$17:$L$47,3,FALSE),Cintura[Cintura],0)) -> 0 | M54: =IF(LEN(TRIM(D54))<1,0,MATCH(VLOOKUP(D54,$J$17:$L$47,3,FALSE),Cintura[Cintura],0)) -> 0 | N54: =IF(LEN(TRIM(F54))<1,0,MATCH(VLOOKUP(F54,$J$17:$L$47,3,FALSE),Cintura[Cintura],0)) -> 0
A55: =Dati!$I$4 -> Marrone-nera | I55: {=IF(LEN(TRIM(C55&D55&F55))<1,"",Quota_iscrizione_coppia_U15)} | K55: {=IF(AND(LEN(TRIM(C55))<1,LEN(TRIM(D55))<1),"",IF(LEN(TRIM(C55))<1,Dati!$N$12,IF(LEN(TRIM(D55))<1,Dati!$N$13,IF(SUMPRODUCT((C55:F55<>"")*(COUNTIF(C$50:F$55,C55:F55)>1))>0,Dati!$N$14,"✓"))))} | L55: =IF(LEN(TRIM(C55))<1,0,MATCH(VLOOKUP(C55,$J$17:$L$47,3,FALSE),Cintura[Cintura],0)) -> 0 | M55: =IF(LEN(TRIM(D55))<1,0,MATCH(VLOOKUP(D55,$J$17:$L$47,3,FALSE),Cintura[Cintura],0)) -> 0 | N55: =IF(LEN(TRIM(F55))<1,0,MATCH(VLOOKUP(F55,$J$17:$L$47,3,FALSE),Cintura[Cintura],0)) -> 0
A57: ="Atleti OVER 15 (nati fino al "&(Anno_limite_under_15-1)&") - pomeriggio" -> Atleti OVER 15 (nati fino al 2011) - pomeriggio
A58: Nr. | B58: Nome | C58: Cognome | D58: Sesso | E58: Data nascita | F58: Cintura | G58: Kata ind. | H58: Kumite | I58: Quota
A59: - | B59: Marina | C59: Rossi | D59: F | E59: 36525 | F59: Blu-marrone | G59: Sì | H59: JK | I59: - | J59: =B59 & " "& C59 -> Marina Rossi
A60: =IF(LEN(J60)>=2,MAX(A$16:A59)+1,"") | I60: =IF(AND(LEN(J60)>1,LEN(G60)>1,LEN(H60)>1),IF(AND(G60="No",H60="No"),0,IF(H60="No",Quota_iscrizione_kata_O15,IF(G60="No",Quota_iscrizione_kumite_O15,Quota_iscrizione_entrambi_O15))),"") | J60: =B60 & " "& C60 | K60: =IF(LEN(J60)<2,"",IF(LEN(D60)<1,Dati!$N$4,IF(LEN(E60)<1,Dati!$N$5,IF(NOT(ISNUMBER(YEAR(E60))),Dati!$N$6,IF(YEAR(E60)>=Anno_limite_under_15,Dati!$N$11,IF(LEN(F60)<1,Dati!$N$7,IF(LEN(G60)<1,Dati!$N$8,IF(LEN(H60)<1,Dati!$N$9,IF(AND(H60="JK",M60<Nr_cintura_limite_JK),Dati!$N$17,"✓"))))))))) | L60: =""&F60 | M60: =IF(LEN(F60)>0,MATCH(F60,Cintura[Cintura],0),0) -> 0
A61: =IF(LEN(J61)>=2,MAX(A$16:A60)+1,"") | I61: =IF(AND(LEN(J61)>1,LEN(G61)>1,LEN(H61)>1),IF(AND(G61="No",H61="No"),0,IF(H61="No",Quota_iscrizione_kata_O15,IF(G61="No",Quota_iscrizione_kumite_O15,Quota_iscrizione_entrambi_O15))),"") | J61: =B61 & " "& C61 | K61: =IF(LEN(J61)<2,"",IF(LEN(D61)<1,Dati!$N$4,IF(LEN(E61)<1,Dati!$N$5,IF(NOT(ISNUMBER(YEAR(E61))),Dati!$N$6,IF(YEAR(E61)>=Anno_limite_under_15,Dati!$N$11,IF(LEN(F61)<1,Dati!$N$7,IF(LEN(G61)<1,Dati!$N$8,IF(LEN(H61)<1,Dati!$N$9,IF(AND(H61="JK",M61<Nr_cintura_limite_JK),Dati!$N$17,"✓"))))))))) | L61: =""&F61 | M61: =IF(LEN(F61)>0,MATCH(F61,Cintura[Cintura],0),0) -> 0
A62: =IF(LEN(J62)>=2,MAX(A$16:A61)+1,"") | I62: =IF(AND(LEN(J62)>1,LEN(G62)>1,LEN(H62)>1),IF(AND(G62="No",H62="No"),0,IF(H62="No",Quota_iscrizione_kata_O15,IF(G62="No",Quota_iscrizione_kumite_O15,Quota_iscrizione_entrambi_O15))),"") | J62: =B62 & " "& C62 | K62: =IF(LEN(J62)<2,"",IF(LEN(D62)<1,Dati!$N$4,IF(LEN(E62)<1,Dati!$N$5,IF(NOT(ISNUMBER(YEAR(E62))),Dati!$N$6,IF(YEAR(E62)>=Anno_limite_under_15,Dati!$N$11,IF(LEN(F62)<1,Dati!$N$7,IF(LEN(G62)<1,Dati!$N$8,IF(LEN(H62)<1,Dati!$N$9,IF(AND(H62="JK",M62<Nr_cintura_limite_JK),Dati!$N$17,"✓"))))))))) | L62: =""&F62 | M62: =IF(LEN(F62)>0,MATCH(F62,Cintura[Cintura],0),0) -> 0
A63: =IF(LEN(J63)>=2,MAX(A$16:A62)+1,"") | I63: =IF(AND(LEN(J63)>1,LEN(G63)>1,LEN(H63)>1),IF(AND(G63="No",H63="No"),0,IF(H63="No",Quota_iscrizione_kata_O15,IF(G63="No",Quota_iscrizione_kumite_O15,Quota_iscrizione_entrambi_O15))),"") | J63: =B63 & " "& C63 | K63: =IF(LEN(J63)<2,"",IF(LEN(D63)<1,Dati!$N$4,IF(LEN(E63)<1,Dati!$N$5,IF(NOT(ISNUMBER(YEAR(E63))),Dati!$N$6,IF(YEAR(E63)>=Anno_limite_under_15,Dati!$N$11,IF(LEN(F63)<1,Dati!$N$7,IF(LEN(G63)<1,Dati!$N$8,IF(LEN(H63)<1,Dati!$N$9,IF(AND(H63="JK",M63<Nr_cintura_limite_JK),Dati!$N$17,"✓"))))))))) | L63: =""&F63 | M63: =IF(LEN(F63)>0,MATCH(F63,Cintura[Cintura],0),0) -> 0
A64: =IF(LEN(J64)>=2,MAX(A$16:A63)+1,"") | I64: =IF(AND(LEN(J64)>1,LEN(G64)>1,LEN(H64)>1),IF(AND(G64="No",H64="No"),0,IF(H64="No",Quota_iscrizione_kata_O15,IF(G64="No",Quota_iscrizione_kumite_O15,Quota_iscrizione_entrambi_O15))),"") | J64: =B64 & " "& C64 | K64: =IF(LEN(J64)<2,"",IF(LEN(D64)<1,Dati!$N$4,IF(LEN(E64)<1,Dati!$N$5,IF(NOT(ISNUMBER(YEAR(E64))),Dati!$N$6,IF(YEAR(E64)>=Anno_limite_under_15,Dati!$N$11,IF(LEN(F64)<1,Dati!$N$7,IF(LEN(G64)<1,Dati!$N$8,IF(LEN(H64)<1,Dati!$N$9,IF(AND(H64="JK",M64<Nr_cintura_limite_JK),Dati!$N$17,"✓"))))))))) | L64: =""&F64 | M64: =IF(LEN(F64)>0,MATCH(F64,Cintura[Cintura],0),0) -> 0
A65: =IF(LEN(J65)>=2,MAX(A$16:A64)+1,"") | I65: =IF(AND(LEN(J65)>1,LEN(G65)>1,LEN(H65)>1),IF(AND(G65="No",H65="No"),0,IF(H65="No",Quota_iscrizione_kata_O15,IF(G65="No",Quota_iscrizione_kumite_O15,Quota_iscrizione_entrambi_O15))),"") | J65: =B65 & " "& C65 | K65: =IF(LEN(J65)<2,"",IF(LEN(D65)<1,Dati!$N$4,IF(LEN(E65)<1,Dati!$N$5,IF(NOT(ISNUMBER(YEAR(E65))),Dati!$N$6,IF(YEAR(E65)>=Anno_limite_under_15,Dati!$N$11,IF(LEN(F65)<1,Dati!$N$7,IF(LEN(G65)<1,Dati!$N$8,IF(LEN(H65)<1,Dati!$N$9,IF(AND(H65="JK",M65<Nr_cintura_limite_JK),Dati!$N$17,"✓"))))))))) | L65: =""&F65 | M65: =IF(LEN(F65)>0,MATCH(F65,Cintura[Cintura],0),0) -> 0
A66: =IF(LEN(J66)>=2,MAX(A$16:A65)+1,"") | I66: =IF(AND(LEN(J66)>1,LEN(G66)>1,LEN(H66)>1),IF(AND(G66="No",H66="No"),0,IF(H66="No",Quota_iscrizione_kata_O15,IF(G66="No",Quota_iscrizione_kumite_O15,Quota_iscrizione_entrambi_O15))),"") | J66: =B66 & " "& C66 | K66: =IF(LEN(J66)<2,"",IF(LEN(D66)<1,Dati!$N$4,IF(LEN(E66)<1,Dati!$N$5,IF(NOT(ISNUMBER(YEAR(E66))),Dati!$N$6,IF(YEAR(E66)>=Anno_limite_under_15,Dati!$N$11,IF(LEN(F66)<1,Dati!$N$7,IF(LEN(G66)<1,Dati!$N$8,IF(LEN(H66)<1,Dati!$N$9,IF(AND(H66="JK",M66<Nr_cintura_limite_JK),Dati!$N$17,"✓"))))))))) | L66: =""&F66 | M66: =IF(LEN(F66)>0,MATCH(F66,Cintura[Cintura],0),0) -> 0
A67: =IF(LEN(J67)>=2,MAX(A$16:A66)+1,"") | I67: =IF(AND(LEN(J67)>1,LEN(G67)>1,LEN(H67)>1),IF(AND(G67="No",H67="No"),0,IF(H67="No",Quota_iscrizione_kata_O15,IF(G67="No",Quota_iscrizione_kumite_O15,Quota_iscrizione_entrambi_O15))),"") | J67: =B67 & " "& C67 | K67: =IF(LEN(J67)<2,"",IF(LEN(D67)<1,Dati!$N$4,IF(LEN(E67)<1,Dati!$N$5,IF(NOT(ISNUMBER(YEAR(E67))),Dati!$N$6,IF(YEAR(E67)>=Anno_limite_under_15,Dati!$N$11,IF(LEN(F67)<1,Dati!$N$7,IF(LEN(G67)<1,Dati!$N$8,IF(LEN(H67)<1,Dati!$N$9,IF(AND(H67="JK",M67<Nr_cintura_limite_JK),Dati!$N$17,"✓"))))))))) | L67: =""&F67 | M67: =IF(LEN(F67)>0,MATCH(F67,Cintura[Cintura],0),0) -> 0
A68: =IF(LEN(J68)>=2,MAX(A$16:A67)+1,"") | I68: =IF(AND(LEN(J68)>1,LEN(G68)>1,LEN(H68)>1),IF(AND(G68="No",H68="No"),0,IF(H68="No",Quota_iscrizione_kata_O15,IF(G68="No",Quota_iscrizione_kumite_O15,Quota_iscrizione_entrambi_O15))),"") | J68: =B68 & " "& C68 | K68: =IF(LEN(J68)<2,"",IF(LEN(D68)<1,Dati!$N$4,IF(LEN(E68)<1,Dati!$N$5,IF(NOT(ISNUMBER(YEAR(E68))),Dati!$N$6,IF(YEAR(E68)>=Anno_limite_under_15,Dati!$N$11,IF(LEN(F68)<1,Dati!$N$7,IF(LEN(G68)<1,Dati!$N$8,IF(LEN(H68)<1,Dati!$N$9,IF(AND(H68="JK",M68<Nr_cintura_limite_JK),Dati!$N$17,"✓"))))))))) | L68: =""&F68 | M68: =IF(LEN(F68)>0,MATCH(F68,Cintura[Cintura],0),0) -> 0
A69: =IF(LEN(J69)>=2,MAX(A$16:A68)+1,"") | I69: =IF(AND(LEN(J69)>1,LEN(G69)>1,LEN(H69)>1),IF(AND(G69="No",H69="No"),0,IF(H69="No",Quota_iscrizione_kata_O15,IF(G69="No",Quota_iscrizione_kumite_O15,Quota_iscrizione_entrambi_O15))),"") | J69: =B69 & " "& C69 | K69: =IF(LEN(J69)<2,"",IF(LEN(D69)<1,Dati!$N$4,IF(LEN(E69)<1,Dati!$N$5,IF(NOT(ISNUMBER(YEAR(E69))),Dati!$N$6,IF(YEAR(E69)>=Anno_limite_under_15,Dati!$N$11,IF(LEN(F69)<1,Dati!$N$7,IF(LEN(G69)<1,Dati!$N$8,IF(LEN(H69)<1,Dati!$N$9,IF(AND(H69="JK",M69<Nr_cintura_limite_JK),Dati!$N$17,"✓"))))))))) | L69: =""&F69 | M69: =IF(LEN(F69)>0,MATCH(F69,Cintura[Cintura],0),0) -> 0
A70: =IF(LEN(J70)>=2,MAX(A$16:A69)+1,"") | I70: =IF(AND(LEN(J70)>1,LEN(G70)>1,LEN(H70)>1),IF(AND(G70="No",H70="No"),0,IF(H70="No",Quota_iscrizione_kata_O15,IF(G70="No",Quota_iscrizione_kumite_O15,Quota_iscrizione_entrambi_O15))),"") | J70: =B70 & " "& C70 | K70: =IF(LEN(J70)<2,"",IF(LEN(D70)<1,Dati!$N$4,IF(LEN(E70)<1,Dati!$N$5,IF(NOT(ISNUMBER(YEAR(E70))),Dati!$N$6,IF(YEAR(E70)>=Anno_limite_under_15,Dati!$N$11,IF(LEN(F70)<1,Dati!$N$7,IF(LEN(G70)<1,Dati!$N$8,IF(LEN(H70)<1,Dati!$N$9,IF(AND(H70="JK",M70<Nr_cintura_limite_JK),Dati!$N$17,"✓"))))))))) | L70: =""&F70 | M70: =IF(LEN(F70)>0,MATCH(F70,Cintura[Cintura],0),0) -> 0
A71: =IF(LEN(J71)>=2,MAX(A$16:A70)+1,"") | I71: =IF(AND(LEN(J71)>1,LEN(G71)>1,LEN(H71)>1),IF(AND(G71="No",H71="No"),0,IF(H71="No",Quota_iscrizione_kata_O15,IF(G71="No",Quota_iscrizione_kumite_O15,Quota_iscrizione_entrambi_O15))),"") | J71: =B71 & " "& C71 | K71: =IF(LEN(J71)<2,"",IF(LEN(D71)<1,Dati!$N$4,IF(LEN(E71)<1,Dati!$N$5,IF(NOT(ISNUMBER(YEAR(E71))),Dati!$N$6,IF(YEAR(E71)>=Anno_limite_under_15,Dati!$N$11,IF(LEN(F71)<1,Dati!$N$7,IF(LEN(G71)<1,Dati!$N$8,IF(LEN(H71)<1,Dati!$N$9,IF(AND(H71="JK",M71<Nr_cintura_limite_JK),Dati!$N$17,"✓"))))))))) | L71: =""&F71 | M71: =IF(LEN(F71)>0,MATCH(F71,Cintura[Cintura],0),0) -> 0
... A89: =IF(LEN(J89)>=2,MAX(A$16:A88)+1,"") | I89: =IF(AND(LEN(J89)>1,LEN(G89)>1,LEN(H89)>1),IF(AND(G89="No",H89="No"),0,IF(H89="No",Quota_iscrizione_kata_O15,IF(G89="No",Quota_iscrizione_kumite_O15,Quota_iscrizione_entrambi_O15))),"") | J89: =B89 & " "& C89 | K89: =IF(LEN(J89)<2,"",IF(LEN(D89)<1,Dati!$N$4,IF(LEN(E89)<1,Dati!$N$5,IF(NOT(ISNUMBER(YEAR(E89))),Dati!$N$6,IF(YEAR(E89)>=Anno_limite_under_15,Dati!$N$11,IF(LEN(F89)<1,Dati!$N$7,IF(LEN(G89)<1,Dati!$N$8,IF(LEN(H89)<1,Dati!$N$9,IF(AND(H89="JK",M89<Nr_cintura_limite_JK),Dati!$N$17,"✓"))))))))) | L89: =""&F89 | M89: =IF(LEN(F89)>0,MATCH(F89,Cintura[Cintura],0),0) -> 0
A90: Per aggiungere altri atleti, copiare l'intera ultima riga della tabella e inserirla prima di questa riga di testo
A92: Coppie di kata OVER 15 | C92: Atleta 1 | D92: Atleta 2 | F92: Riserva (opzionale) | I92: Quota
A93: =Dati!$I$2 -> Bianca-gialla-arancio | I93: =IF(LEN(TRIM(C93&D93&F93))<1,"",Quota_iscrizione_coppia_O15) | K93: {=IF(AND(LEN(TRIM(C93))<1,LEN(TRIM(D93))<1),"",IF(LEN(TRIM(C93))<1,Dati!$N$12,IF(LEN(TRIM(D93))<1,Dati!$N$13,IF(SUMPRODUCT((C93:F93<>"")*(COUNTIF(C$93:F$98,C93:F93)>1))>0,Dati!$N$14,IF(MAX(L93:N93)>=7,Dati!$N$15,"✓")))))} | L93: =IF(LEN(TRIM(C93))<1,0,MATCH(VLOOKUP(C93,$J$60:$L$90,3,FALSE),Cintura[Cintura],0)) -> 0 | M93: =IF(LEN(TRIM(D93))<1,0,MATCH(VLOOKUP(D93,$J$60:$L$90,3,FALSE),Cintura[Cintura],0)) -> 0 | N93: =IF(LEN(TRIM(F93))<1,0,MATCH(VLOOKUP(F93,$J$60:$L$90,3,FALSE),Cintura[Cintura],0)) -> 0
A94: =Dati!$I$2 -> Bianca-gialla-arancio | I94: =IF(LEN(TRIM(C94&D94&F94))<1,"",Quota_iscrizione_coppia_O15) | K94: {=IF(AND(LEN(TRIM(C94))<1,LEN(TRIM(D94))<1),"",IF(LEN(TRIM(C94))<1,Dati!$N$12,IF(LEN(TRIM(D94))<1,Dati!$N$13,IF(SUMPRODUCT((C94:F94<>"")*(COUNTIF(C$93:F$98,C94:F94)>1))>0,Dati!$N$14,IF(MAX(L94:N94)>=7,Dati!$N$15,"✓")))))} | L94: =IF(LEN(TRIM(C94))<1,0,MATCH(VLOOKUP(C94,$J$60:$L$90,3,FALSE),Cintura[Cintura],0)) -> 0 | M94: =IF(LEN(TRIM(D94))<1,0,MATCH(VLOOKUP(D94,$J$60:$L$90,3,FALSE),Cintura[Cintura],0)) -> 0 | N94: =IF(LEN(TRIM(F94))<1,0,MATCH(VLOOKUP(F94,$J$60:$L$90,3,FALSE),Cintura[Cintura],0)) -> 0
A95: =Dati!$I$3 -> Verde-blu | I95: =IF(LEN(TRIM(C95&D95&F95))<1,"",Quota_iscrizione_coppia_O15) | K95: {=IF(AND(LEN(TRIM(C95))<1,LEN(TRIM(D95))<1),"",IF(LEN(TRIM(C95))<1,Dati!$N$12,IF(LEN(TRIM(D95))<1,Dati!$N$13,IF(SUMPRODUCT((C95:F95<>"")*(COUNTIF(C$93:F$98,C95:F95)>1))>0,Dati!$N$14,IF(MAX(L95:N95)>=11,Dati!$N$15,"✓")))))} | L95: =IF(LEN(TRIM(C95))<1,0,MATCH(VLOOKUP(C95,$J$60:$L$90,3,FALSE),Cintura[Cintura],0)) -> 0 | M95: =IF(LEN(TRIM(D95))<1,0,MATCH(VLOOKUP(D95,$J$60:$L$90,3,FALSE),Cintura[Cintura],0)) -> 0 | N95: =IF(LEN(TRIM(F95))<1,0,MATCH(VLOOKUP(F95,$J$60:$L$90,3,FALSE),Cintura[Cintura],0)) -> 0
A96: =Dati!$I$3 -> Verde-blu | I96: =IF(LEN(TRIM(C96&D96&F96))<1,"",Quota_iscrizione_coppia_O15) | K96: {=IF(AND(LEN(TRIM(C96))<1,LEN(TRIM(D96))<1),"",IF(LEN(TRIM(C96))<1,Dati!$N$12,IF(LEN(TRIM(D96))<1,Dati!$N$13,IF(SUMPRODUCT((C96:F96<>"")*(COUNTIF(C$93:F$98,C96:F96)>1))>0,Dati!$N$14,IF(MAX(L96:N96)>=11,Dati!$N$15,"✓")))))} | L96: =IF(LEN(TRIM(C96))<1,0,MATCH(VLOOKUP(C96,$J$60:$L$90,3,FALSE),Cintura[Cintura],0)) -> 0 | M96: =IF(LEN(TRIM(D96))<1,0,MATCH(VLOOKUP(D96,$J$60:$L$90,3,FALSE),Cintura[Cintura],0)) -> 0 | N96: =IF(LEN(TRIM(F96))<1,0,MATCH(VLOOKUP(F96,$J$60:$L$90,3,FALSE),Cintura[Cintura],0)) -> 0
A97: =Dati!$I$4 -> Marrone-nera | I97: =IF(LEN(TRIM(C97&D97&F97))<1,"",Quota_iscrizione_coppia_O15) | K97: {=IF(AND(LEN(TRIM(C97))<1,LEN(TRIM(D97))<1),"",IF(LEN(TRIM(C97))<1,Dati!$N$12,IF(LEN(TRIM(D97))<1,Dati!$N$13,IF(SUMPRODUCT((C97:F97<>"")*(COUNTIF(C$93:F$98,C97:F97)>1))>0,Dati!$N$14,"✓"))))} | L97: =IF(LEN(TRIM(C97))<1,0,MATCH(VLOOKUP(C97,$J$60:$L$90,3,FALSE),Cintura[Cintura],0)) -> 0 | M97: =IF(LEN(TRIM(#REF!))<1,0,MATCH(VLOOKUP(#REF!,$J$60:$L$90,3,FALSE),Cintura[Cintura],0)) -> #REF! | N97: =IF(LEN(TRIM(F97))<1,0,MATCH(VLOOKUP(F97,$J$60:$L$90,3,FALSE),Cintura[Cintura],0)) -> 0
A98: =Dati!$I$4 -> Marrone-nera | I98: =IF(LEN(TRIM(C98&D97&F98))<1,"",Quota_iscrizione_coppia_O15) | K98: {=IF(AND(LEN(TRIM(C98))<1,LEN(TRIM(D98))<1),"",IF(LEN(TRIM(C98))<1,Dati!$N$12,IF(LEN(TRIM(D98))<1,Dati!$N$13,IF(SUMPRODUCT((C98:F98<>"")*(COUNTIF(C$93:F$98,C98:F98)>1))>0,Dati!$N$14,"✓"))))} | L98: =IF(LEN(TRIM(C98))<1,0,MATCH(VLOOKUP(C98,$J$60:$L$90,3,FALSE),Cintura[Cintura],0)) -> 0 | M98: =IF(LEN(TRIM(D97))<1,0,MATCH(VLOOKUP(D97,$J$60:$L$90,3,FALSE),Cintura[Cintura],0)) -> 0 | N98: =IF(LEN(TRIM(F98))<1,0,MATCH(VLOOKUP(F98,$J$60:$L$90,3,FALSE),Cintura[Cintura],0)) -> 0

Sheet Dati
A1: Sesso | C1: Cintura | E1: Si/no | G1: Kumite | I1: KataCoppie | K1: Quota iscrizione atleta U15: | L1: 27 | N1: Errori:
A2: F | C2: Bianca | E2: Sì | G2: KIK | I2: Bianca-gialla-arancio | K2: Quota iscrizione coppia U15: | L2: 10 | N2: Manca il nome
A3: M | C3: Bianco-gialla | E3: No | G3: JIK | I3: Verde-blu | N3: Manca il cognome
C4: Gialla | G4: JK | I4: Marrone-nera | K4: Anno limite under 15: | L4: 2012 | N4: Manca il sesso
C5: Giallo-arancio | G5: No | N5: Manca la data di nascita
C6: Arancio | K6: Età limite JK: | L6: 13 | N6: La data di nascita non è valida
C7: Arancio-verde | K7: Anno limite JK: | L7: =Anno_limite_under_15+2 -> 2014 | N7: Manca la cintura
C8: Verde | K8: Cintura limite JK: | L8: Verde | N8: Indicare se fa kata individuale
C9: Verde-blu | K9: Nr cintura limite JK: | L9: =MATCH(L8,Cintura[Cintura],0) -> 7 | N9: Indicare se fa kumite
C10: Blu | N10: L'atleta non ha meno di 15 anni
C11: Blu-marrone | K11: Quota iscrizione kata O15: | L11: 20 | N11: L'atleta ha meno di 15 anni
C12: Marrone | K12: Quota iscrizione kumite O15: | L12: 20 | N12: Manca atleta 1
C13: Nera 1° dan | K13: Quota iscrizione entrambi O15: | L13: 30 | N13: Manca atleta 2
C14: Nera 2° dan | K14: Quota iscrizione coppia O15: | L14: 10 | N14: Un atleta appare più volte
C15: Nera 3° dan | N15: Cintura troppo alta
C16: Nera 4° dan | N16: ="Per JK minimo "&Eta_limite_JK&" anni e cintura "&LOWER(Cintura_limite_JK) -> Per JK minimo 13 anni e cintura verde
C17: Nera 5° dan | N17: ="Per JK minimo cintura "&LOWER(Cintura_limite_JK) -> Per JK minimo cintura verde
