Workbook
Name Anno_limite_JK: Dati!$L$7
Name Anno_limite_under_15: Dati!$L$4
Name Cintura_limite_JK: Dati!$L$8
Name Eta_limite_JK: Dati!$L$6
Name Nr_cintura_limite_JK: Dati!$L$9
Name Quota_iscrizione_atleta_U15: Dati!$L$1
Name Quota_iscrizione_coppia_O15: Dati!$L$14
Name Quota_iscrizione_coppia_U15: Dati!$L$2
Name Quota_iscrizione_entrambi_O15: Dati!$L$13
Name Quota_iscrizione_kata_O15: Dati!$L$11
Name Quota_iscrizione_kumite_O15: Dati!$L$12
Name Sotto_limit_per_JK: Dati!$N$16

Sheet Iscrizioni
A1: 2° Trofeo Alfieri - Città di Torino
A2: Modulo d'iscrizione | F2: Versare quota iscrizioni su IBAN
A3: Iscrizioni entro il 15 ottobre 2026 | F3: IT52 M030 7502 200C C850 1110 661
A4: Per informazioni +39 347 730 5522 | F4: conto intestato a ASD Karate Alfieri
A5: Inviare modulo compilato a | C5: karatealfieri@gmail.com | F5: ="Causale: Trofeo Alfieri "&C7 -> Causale: Trofeo Alfieri
A7: Società: | D7: =IF(LEN(C7)<3," *","") -> * | F7: Quota totale iscrizioni: | I7: =SUM(I16:I47)+SUM(I50:I55)+SUM(I59:I90)+SUM(I93:I98) -> 0
A8: Regione: | D8: =IF(LEN(C8)<3," *","") -> *
A9: Riferente tecnico: | D9: =IF(LEN(C9)<3," *","") -> *
A10: Indirizzo email: | D10: =IF(LEN(C10)<3," *","") -> *
A11: Telefono: | D11: =IF(LEN(C11)<3," *","") -> *
F12: Per la compilazione usare i menu a tendina
A14: ="Atleti UNDER 15 (nati dal "&Anno_limite_under_15&") - mattina" -> Atleti UNDER 15 (nati dal 2012) - mattina
A15: Nr. | B15: Nome | C15: Cognome | D15: Sesso | E15: Data nascita | F15: Cintura | G15: Kata ind. | H15: Kumite | I15: Quota
A16: - | B16: Mario | C16: Rossi | D16: M | E16: 43830 | F16: Giallo-arancio | G16: Sì | H16: JK | I16: - | J16: =B16 & " "& C16 -> Mario Rossi
A17: =IF(LEN(J17)>=2,MAX(A$16:A16)+1,"") | I17: =IF(AND(LEN(J17)>1,LEN(G17)>1,LEN(H17)>1),IF(AND(G17="No",H17="No"),0,Quota_iscrizione_atleta_U15),"") | J17: =B17 & " "& C17 | K17: =IF(LEN(J17)<2,"",IF(LEN(D17)<1,Dati!$N$4,IF(LEN(E17)<1,Dati!$N$5,IF(NOT(ISNUMBER(YEAR(E17))),Dati!$N$6,IF(YEAR(E17)<Anno_limite_under_15,Dati!$N$10,IF(LEN(F17)<1,Dati!$N$7,IF(LEN(G17)<1,Dati!$N$8,IF(LEN(H17)<1,Dati!$N$9,IF(AND(H17="JK",OR(YEAR(E17)>Anno_limite_JK,M17<Nr_cintura_limite_JK)),Dati!$N$16,"✓"))))))))) | L17: =""&F17 | M17: =IF(LEN(F17)>0,MATCH(F17,Cintura[Cintura],0),0) -> 0
A18: =IF(LEN(J18)>=2,MAX(A$16:A17)+1,"") | I18: =IF(AND(LEN(J18)>1,LEN(G18)>1,LEN(H18)>1),IF(AND(G18="No",H18="No"),0,Quota_iscrizione_atleta_U15),"") | J18: =B18 & " "& C18 | K18: =IF(LEN(J18)<2,"",IF(LEN(D18)<1,Dati!$N$4,IF(LEN(E18)<1,Dati!$N$5,IF(NOT(ISNUMBER(YEAR(E18))),Dati!$N$6,IF(YEAR(E18)<Anno_limite_under_15,Dati!$N$10,IF(LEN(F18)<1,Dati!$N$7,IF(LEN(G18)<1,Dati!$N$8,IF(LEN(H18)<1,Dati!$N$9,IF(AND(H18="JK",OR(YEAR(E18)>Anno_limite_JK,M18<Nr_cintura_limite_JK)),Dati!$N$16,"✓"))))))))) | L18: =""&F18 | M18: =IF(LEN(F18)>0,MATCH(F18,Cintura[Cintura],0),0) -> 0
A19: =IF(LEN(J19)>=2,MAX(A$16:A18)+1,"") | I19: =IF(AND(LEN(J19)>1,LEN(G19)>1,LEN(H19)>1),IF(AND(G19="No",H19="No"),0,Quota_iscrizione_atleta_U15),"") | J19: =B19 & " "& C19 | K19: =IF(LEN(J19)<2,"",IF(LEN(D19)<1,Dati!$N$4,IF(LEN(E19)<1,Dati!$N$5,IF(NOT(ISNUMBER(YEAR(E19))),Dati!$N$6,IF(YEAR(E19)<Anno_limite_under_15,Dati!$N$10,IF(LEN(F19)<1,Dati!$N$7,IF(LEN(G19)<1,Dati!$N$8,IF(LEN(H19)<1,Dati!$N$9,IF(AND(H19="JK",OR(YEAR(E19)>Anno_limite_JK,M19<Nr_cintura_limite_JK)),Dati!$N$16,"✓"))))))))) | L19: =""&F19 | M19: =IF(LEN(F19)>0,MATCH(F19,Cintura[Cintura],0),0) -> 0
A20: =IF(LEN(J20)>=2,MAX(A$16:A19)+1,"") | I20: =IF(AND(LEN(J20)>1,LEN(G20)>1,LEN(H20)>1),IF(AND(G20="No",H20="No"),0,Quota_iscrizione_atleta_U15),"") | J20: =B20 & " "& C20 | K20: =IF(LEN(J20)<2,"",IF(LEN(D20)<1,Dati!$N$4,IF(LEN(E20)<1,Dati!$N$5,IF(NOT(ISNUMBER(YEAR(E20))),Dati!$N$6,IF(YEAR(E20)<Anno_limite_under_15,Dati!$N$10,IF(LEN(F20)<1,Dati!$N$7,IF(LEN(G20)<1,Dati!$N$8,IF(LEN(H20)<1,Dati!$N$9,IF(AND(H20="JK",OR(YEAR(E20)>Anno_limite_JK,M20<Nr_cintura_limite_JK)),Dati!$N$16,"✓"))))))))) | L20: =""&F20 | M20: =IF(LEN(F20)>0,MATCH(F20,Cintura[Cintura],0),0) -> 0
A21: =IF(LEN(J21)>=2,MAX(A$16:A20)+1,"") | I21: =IF(AND(LEN(J21)>1,LEN(G21)>1,LEN(H21)>1),IF(AND(G21="No",H21="No"),0,Quota_iscrizione_atleta_U15),"") | J21: =B21 & " "& C21 | K21: =IF(LEN(J21)<2,"",IF(LEN(D21)<1,Dati!$N$4,IF(LEN(E21)<1,Dati!$N$5,IF(NOT(ISNUMBER(YEAR(E21))),Dati!$N$6,IF(YEAR(E21)<Anno_limite_under_15,Dati!$N$10,IF(LEN(F21)<1,Dati!$N$7,IF(LEN(G21)<1,Dati!$N$8,IF(LEN(H21)<1,Dati!$N$9,IF(AND(H21="JK",OR(YEAR(E21)>Anno_limite_JK,M21<Nr_cintura_limite_JK)),Dati!$N$16,"✓"))))))))) | L21: =""&F21 | M21: =IF(LEN(F21)>0,MATCH(F21,Cintura[Cintura],0),0) -> 0
A22: =IF(LEN(J22)>=2,MAX(A$16:A21)+1,"") | I22: =IF(AND(LEN(J22)>1,LEN(G22)>1,LEN(H22)>1),IF(AND(G22="No",H22="No"),0,Quota_iscrizione_atleta_U15),"") | J22: =B22 & " "& C22 | K22: =IF(LEN(J22)<2,"",IF(LEN(D22)<1,Dati!$N$4,IF(LEN(E22)<1,Dati!$N$5,IF(NOT(ISNUMBER(YEAR(E22))),Dati!$N$6,IF(YEAR(E22)<Anno_limite_under_15,Dati!$N$10,IF(LEN(F22)<1,Dati!$N$7,IF(LEN(G22)<1,Dati!$N$8,IF(LEN(H22)<1,Dati!$N$9,IF(AND(H22="JK",OR(YEAR(E22)>Anno_limite_JK,M22<Nr_cintura_limite_JK)),Dati!$N$16,"✓"))))))))) | L22: =""&F22 | M22: =IF(LEN(F22)>0,MATCH(F22,Cintura[Cintura],0),0) -> 0
A23: =IF(LEN(J23)>=2,MAX(A$16:A22)+1,"") | I23: =IF(AND(LEN(J23)>1,LEN(G23)>1,LEN(H23)>1),IF(AND(G23="No",H23="No"),0,Quota_iscrizione_atleta_U15),"") | J23: =B23 & " "& C23 | K23: =IF(LEN(J23)<2,"",IF(LEN(D23)<1,Dati!$N$4,IF(LEN(E23)<1,Dati!$N$5,IF(NOT(ISNUMBER(YEAR(E23))),Dati!$N$6,IF(YEAR(E23)<Anno_limite_under_15,Dati!$N$10,IF(LEN(F23)<1,Dati!$N$7,IF(LEN(G23)<1,Dati!$N$8,IF(LEN(H23)<1,Dati!$N$9,IF(AND(H23="JK",OR(YEAR(E23)>Anno_limite_JK,M23<Nr_cintura_limite_JK)),Dati!$N$16,"✓"))))))))) | L23: =""&F23 | M23: =IF(LEN(F23)>0,MATCH(F23,Cintura[Cintura],0),0) -> 0
A24: =IF(LEN(J24)>=2,MAX(A$16:A23)+1,"") | I24: =IF(AND(LEN(J24)>1,LEN(G24)>1,LEN(H24)>1),IF(AND(G24="No",H24="No"),0,Quota_iscrizione_atleta_U15),"") | J24: =B24 & " "& C24 | K24: =IF(LEN(J24)<2,"",IF(LEN(D24)<1,Dati!$N$4,IF(LEN(E24)<1,Dati!$N$5,IF(NOT(ISNUMBER(YEAR(E24))),Dati!$N$6,IF(YEAR(E24)<Anno_limite_under_15,Dati!$N$10,IF(LEN(F24)<1,Dati!$N$7,IF(LEN(G24)<1,Dati!$N$8,IF(LEN(H24)<1,Dati!$N$9,IF(AND(H24="JK",OR(YEAR(E24)>Anno_limite_JK,M24<Nr_cintura_limite_JK)),Dati!$N$16,"✓"))))))))) | L24: =""&F24 | M24: =IF(LEN(F24)>0,MATCH(F24,Cintura[Cintura],0),0) -> 0
A25: =IF(LEN(J25)>=2,MAX(A$16:A24)+1,"") | I25: =IF(AND(LEN(J25)>1,LEN(G25)>1,LEN(H25)>1),IF(AND(G25="No",H25="No"),0,Quota_iscrizione_atleta_U15),"") | J25: =B25 & " "& C25 | K25: =IF(LEN(J25)<2,"",IF(LEN(D25)<1,Dati!$N$4,IF(LEN(E25)<1,Dati!$N$5,IF(NOT(ISNUMBER(YEAR(E25))),Dati!$N$6,IF(YEAR(E25)<Anno_limite_under_15,Dati!$N$10,IF(LEN(F25)<1,Dati!$N$7,IF(LEN(G25)<1,Dati!$N$8,IF(LEN(H25)<1,Dati!$N$9,IF(AND(H25="JK",OR(YEAR(E25)>Anno_limite_JK,M25<Nr_cintura_limite_JK)),Dati!$N$16,"✓"))))))))) | L25: =""&F25 | M25: =IF(LEN(F25)>0,MATCH(F25,Cintura[Cintura],0),0) -> 0
A26: =IF(LEN(J26)>=2,MAX(A$16:A25)+1,"") | I26: =IF(AND(LEN(J26)>1,LEN(G26)>1,LEN(H26)>1),IF(AND(G26="No",H26="No"),0,Quota_iscrizione_atleta_U15),"") | J26: =B26 & " "& C26 | K26: =IF(LEN(J26)<2,"",IF(LEN(D26)<1,Dati!$N$4,IF(LEN(E26)<1,Dati!$N$5,IF(NOT(ISNUMBER(YEAR(E26))),Dati!$N$6,IF(YEAR(E26)<Anno_limite_under_15,Dati!$N$10,IF(LEN(F26)<1,Dati!$N$7,IF(LEN(G26)<1,Dati!$N$8,IF(LEN(H26)<1,Dati!$N$9,IF(AND(H26="JK",OR(YEAR(E26)>Anno_limite_JK,M26<Nr_cintura_limite_JK)),Dati!$N$16,"✓"))))))))) | L26: =""&F26 | M26: =IF(LEN(F26)>0,MATCH(F26,Cintura[Cintura],0),0) -> 0
A27: =IF(LEN(J27)>=2,MAX(A$16:A26)+1,"") | I27: =IF(AND(LEN(J27)>1,LEN(G27)>1,LEN(H27)>1),IF(AND(G27="No",H27="No"),0,Quota_iscrizione_atleta_U15),"") | J27: =B27 & " "& C27 | K27: =IF(LEN(J27)<2,"",IF(LEN(D27)<1,Dati!$N$4,IF(LEN(E27)<1,Dati!$N$5,IF(NOT(ISNUMBER(YEAR(E27))),Dati!$N$6,IF(YEAR(E27)<Anno_limite_under_15,Dati!$N$10,IF(LEN(F27)<1,Dati!$N$7,IF(LEN(G27)<1,Dati!$N$8,IF(LEN(H27)<1,Dati!$N$9,IF(AND(H27="JK",OR(YEAR(E27)>Anno_limite_JK,M27<Nr_cintura_limite_JK)),Dati!$N$16,"✓"))))))))) | L27: =""&F27 | M27: =IF(LEN(F27)>0,MATCH(F27,Cintura[Cintura],0),0) -> 0
A28: =IF(LEN(J28)>=2,MAX(A$16:A27)+1,"") | I28: =IF(AND(LEN(J28)>1,LEN(G28)>1,LEN(H28)>1),IF(AND(G28="No",H28="No"),0,Quota_iscrizione_atleta_U15),"") | J28: =B28 & " "& C28 | K28: =IF(LEN(J28)<2,"",IF(LEN(D28)<1,Dati!$N$4,IF(LEN(E28)<1,Dati!$N$5,IF(NOT(ISNUMBER(YEAR(E28))),Dati!$N$6,IF(YEAR(E28)<Anno_limite_under_15,Dati!$N$10,IF(LEN(F28)<1,Dati!$N$7,IF(LEN(G28)<1,Dati!$N$8,IF(LEN(H28)<1,Dati!$N$9,IF(AND(H28="JK",OR(YEAR(E28)>Anno_limite_JK,M28<Nr_cintura_limite_JK)),Dati!$N$16,"✓"))))))))) | L28: =""&F28 | M28: =IF(LEN(F28)>0,MATCH(F28,Cintura[Cintura],0),0) -> 0
... A46: =IF(LEN(J46)>=2,MAX(A$16:A45)+1,"") | I46: =IF(AND(LEN(J46)>1,LEN(G46)>1,LEN(H46)>1),IF(AND(G46="No",H46="No"),0,Quota_iscrizione_atleta_U15),"") | J46: =B46 & " "& C46 | K46: =IF(LEN(J46)<2,"",IF(LEN(D46)<1,Dati!$N$4,IF(LEN(E46)<1,Dati!$N$5,IF(NOT(ISNUMBER(YEAR(E46))),Dati!$N$6,IF(YEAR(E46)<Anno_limite_under_15,Dati!$N$10,IF(LEN(F46)<1,Dati!$N$7,IF(LEN(G46)<1,Dati!$N$8,IF(LEN(H46)<1,Dati!$N$9,IF(AND(H46="JK",OR(YEAR(E46)>Anno_limite_JK,M46<Nr_cintura_limite_JK)),Dati!$N$16,"✓"))))))))) | L46: =""&F46 | M46: =IF(LEN(F46)>0,MATCH(F46,Cintura[Cintura],0),0) -> 0
A47: Per aggiungere altri atleti, copiare l'intera ultima riga della tabella e inserirla prima di questa riga di testo
A49: Coppie di kata UNDER 15 | C49: Atleta 1 | D49: Atleta 2 | F49: Riserva (opzionale) | I49: Quota
A50: =Dati!$I$2 -> Bianca-gialla-arancio | I50: {=IF(LEN(TRIM(C50&D50&F50))<1,"",Quota_iscrizione_coppia_U15)} | K50: {=IF(AND(LEN(TRIM(C50))<1,LEN(TRIM(D50))<1),"",IF(LEN(TRIM(C50))<1,Dati!$N$12,IF(LEN(TRIM(D50))<1,Dati!$N$13,IF(SUMPRODUCT((C50:F50<>"")*(COUNTIF(C$50:F$55,C50:F50)>1))>0,Dati!$N$14,IF(MAX(L50:N50)>=7,Dati!$N$15,"✓")))))} | L50: =IF(LEN(TRIM(C50))<1,0,MATCH(VLOOKUP(C50,$J$17:$L$47,3,FALSE),Cintura[Cintura],0)) -> 0 | M50: =IF(LEN(TRIM(D50))<1,0,MATCH(VLOOKUP(D50,$J$17:$L$47,3,FALSE),Cintura[Cintura],0)) -> 0 | N50: =IF(LEN(TRIM(F50))<1,0,MATCH(VLOOKUP(F50,$J$17:$L$47,3,FALSE),Cintura[Cintura],0)) -> 0
A51: =Dati!$I$2 -> Bianca-gialla-arancio | I51: {=IF(LEN(TRIM(C51&D51&F51))<1,"",Quota_iscrizione_coppia_U15)} | K51: {=IF(AND(LEN(TRIM(C51))<1,LEN(TRIM(D51))<1),"",IF(LEN(TRIM(C51))<1,Dati!$N$12,IF(LEN(TRIM(D51))<1,Dati!$N$13,IF(SUMPRODUCT((C51:F51<>"")*(COUNTIF(C$50:F$55,C51:F51)>1))>0,Dati!$N$14,IF(MAX(L51:N51)>=7,Dati!$N$15,"✓")))))} | L51: =IF(LEN(TRIM(C51))<1,0,MATCH(VLOOKUP(C51,$J$17:$L$47,3,FALSE),Cintura[Cintura],0)) -> 0 | M51: =IF(LEN(TRIM(D51))<1,0,MATCH(VLOOKUP(D51,$J$17:$L$47,3,FALSE),Cintura[Cintura],0)) -> 0 | N51: =IF(LEN(TRIM(F51))<1,0,MATCH(VLOOKUP(F51,$J$17:$L$47,3,FALSE),Cintura[Cintura],0)) -> 0
A52: =Dati!$I$3 -> Verde-blu | I52: {=IF(LEN(TRIM(C52&D52&F52))<1,"",Quota_iscrizione_coppia_U15)} | K52: {=IF(AND(LEN(TRIM(C52))<1,LEN(TRIM(D52))<1),"",IF(LEN(TRIM(C52))<1,Dati!$N$12,IF(LEN(TRIM(D52))<1,Dati!$N$13,IF(SUMPRODUCT((C52:F52<>"")*(COUNTIF(C$50:F$55,C52:F52)>1))>0,Dati!$N$14,IF(MAX(L52:N52)>=11,Dati!$N$15,"✓")))))} | L52: =IF(LEN(TRIM(C52))<1,0,MATCH(VLOOKUP(C52,$J$17:$L$47,3,FALSE),Cintura[Cintura],0)) -> 0 | M52: =IF(LEN(TRIM(D52))<1,0,MATCH(VLOOKUP(D52,$J$17:$L$47,3,FALSE),Cintura[Cintura],0)) -> 0 | N52: =IF(LEN(TRIM(F52))<1,0,MATCH(VLOOKUP(F52,$J$17:$L$47,3,FALSE),Cintura[Cintura],0)) -> 0
A53: =Dati!$I$3 -> Verde-blu | I53: {=IF(LEN(TRIM(C53&D53&F53))<1,"",Quota_iscrizione_coppia_U15)} | K53: {=IF(AND(LEN(TRIM(C53))<1,LEN(TRIM(D53))<1),"",IF(LEN(TRIM(C53))<1,Dati!$N$12,IF(LEN(TRIM(D53))<1,Dati!$N$13,IF(SUMPRODUCT((C53:F53<>"")*(COUNTIF(C$50:F$55,C53:F53)>1))>0,Dati!$N$14,IF(MAX(L53:N53)>=11,Dati!$N$15,"✓")))))} | L53: =IF(LEN(TRIM(C53))<1,0,MATCH(VLOOKUP(C53,$J$17:$L$47,3,FALSE),Cintura[Cintura],0)) -> 0 | M53: =IF(LEN(TRIM(D53))<1,0,MATCH(VLOOKUP(D53,$J$17:$L$47,3,FALSE),Cintura[Cintura],0)) -> 0 | N53: =IF(LEN(TRIM(F53))<1,0,MATCH(VLOOKUP(F53,$J$17:$L$47,3,FALSE),Cintura[Cintura],0)) -> 0
A54: =Dati!$I$4 -> Marrone-nera | I54: {=IF(LEN(TRIM(C54&D54&F54))<1,"",Quota_iscrizione_coppia_U15)} | K54: {=IF(AND(LEN(TRIM(C54))<1,LEN(TRIM(D54))<1),"",IF(LEN(TRIM(C54))<1,Dati!$N$12,IF(LEN(TRIM(D54))<1,Dati!$N$13,IF(SUMPRODUCT((C54:F54<>"")*(COUNTIF(C$50:F$55,C54:F54)>1))>0,Dati!$N$14,"✓"))))} | L54: =IF(LEN(TRIM(C54))<1,0,MATCH(VLOOKUP(C54,$J$17:$L$47,3,FALSE),Cintura[Cintura],0)) -> 0 | M54: =IF(LEN(TRIM(D54))<1,0,MATCH(VLOOKUP(D54,$J$17:$L$47,3,FALSE),Cintura[Cintura],0)) -> 0 | N54: =IF(LEN(TRIM(F54))<1,0,MATCH(VLOOKUP(F54,$J$17:$L$47,3,FALSE),Cintura[Cintura],0)) -> 0
A55: =Dati!$I$4 -> Marrone-nera | I55: {=IF(LEN(TRIM(C55&D55&F55))<1,"",Quota_iscrizione_coppia_U15)} | K55: {=IF(AND(LEN(TRIM(C55))<1,LEN(TRIM(D55))<1),"",IF(LEN(TRIM(C55))<1,Dati!$N$12,IF(LEN(TRIM(D55))<1,Dati!$N$13,IF(SUMPRODUCT((C55:F55<>"")*(COUNTIF(C$50:F$55,C55:F55)>1))>0,Dati!$N$14,"✓"))))} | L55: =IF(LEN(TRIM(C55))<1,0,MATCH(VLOOKUP(C55,$J$17:$L$47,3,FALSE),Cintura[Cintura],0)) -> 0 | M55: =IF(LEN(TRIM(D55))<1,0,MATCH(VLOOKUP(D55,$J$17:$L$47,3,FALSE),Cintura[Cintura],0)) -> 0 | N55: =IF(LEN(TRIM(F55))<1,0,MATCH(VLOOKUP(F55,$J$17:$L$47,3,FALSE),Cintura[Cintura],0)) -> 0
A57: ="Atleti OVER 15 (nati fino al "&(Anno_limite_under_15-1)&") - pomeriggio" -> Atleti OVER 15 (nati fino al 2011) - pomeriggio
A58: Nr. | B58: Nome | C58: Cognome | D58: Sesso | E58: Data nascita | F58: Cintura | G58: Kata ind. | H58: Kumite | I58: Quota
A59: - | B59: Marina | C59: Rossi | D59: F | E59: 36525 | F59: Blu-marrone | G59: Sì | H59: JK | I59: - | J59: =B59 & " "& C59 -> Marina Rossi
A60: =IF(LEN(J60)>=2,MAX(A$16:A59)+1,"") | I60: =IF(AND(LEN(J60)>1,LEN(G60)>1,LEN(H60)>1),IF(AND(G60="No",H60="No"),0,IF(H60="No",Quota_iscrizione_kata_O15,IF(G60="No",Quota_iscrizione_kumite_O15,Quota_iscrizione_entrambi_O15))),"") | J60: =B60 & " "& C60 | K60: =IF(LEN(J60)<2,"",IF(LEN(D60)<1,Dati!$N$4,IF(LEN(E60)<1,Dati!$N$5,IF(NOT(ISNUMBER(YEAR(E60))),Dati!$N$6,IF(YEAR(E60)>=Anno_limite_under_15,Dati!$N$11,IF(LEN(F60)<1,Dati!$N$7,IF(LEN(G60)<1,Dati!$N$8,IF(LEN(H60)<1,Dati!$N$9,IF(AND(H60="JK",M60<Nr_cintura_limite_JK),Dati!$N$17,"✓"))))))))) | L60: =""&F60 | M60: =IF(LEN(F60)>0,MATCH(F60,Cintura[Cintura],0),0) -> 0
A61: =IF(LEN(J61)>=2,MAX(A$16:A60)+1,"") | I61: =IF(AND(LEN(J61)>1,LEN(G61)>1,LEN(H61)>1),IF(AND(G61="No",H61="No"),0,IF(H61="No",Quota_iscrizione_kata_O15,IF(G61="No",Quota_iscrizione_kumite_O15,Quota_iscrizione_entrambi_O15))),"") | J61: =B61 & " "& C61 | K61: =IF(LEN(J61)<2,"",IF(LEN(D61)<1,Dati!$N$4,IF(LEN(E61)<1,Dati!$N$5,IF(NOT(ISNUMBER(YEAR(E61))),Dati!$N$6,IF(YEAR(E61)>=Anno_limite_under_15,Dati!$N$11,IF(LEN(F61)<1,Dati!$N$7,IF(LEN(G61)<1,Dati!$N$8,IF(LEN(H61)<1,Dati!$N$9,IF(AND(H61="JK",M61<Nr_cintura_limite_JK),Dati!$N$17,"✓"))))))))) | L61: =""&F61 | M61: =IF(LEN(F61)>0,MATCH(F61,Cintura[Cintura],0),0) -> 0
...

Sheet Dati
A1: Sesso | C1: Cintura | E1: Si/no | G1: Kumite | I1: KataCoppie | K1: Quota iscrizione atleta U15: | L1: 27 | N1: Errori:
A2: F | C2: Bianca | E2: Sì | G2: KIK | I2: Bianca-gialla-arancio | K2: Quota iscrizione coppia U15: | L2: 10 | N2: Manca il nome
A3: M | C3: Bianco-gialla | E3: No | G3: JIK | I3: Verde-blu | N3: Manca il cognome
C4: Gialla | G4: JK | I4: Marrone-nera | K4: Anno limite under 15: | L4: 2012 | N4: Manca il sesso
C5: Giallo-arancio | G5: No | N5: Manca la data di nascita
C6: Arancio | K6: Età limite JK: | L6: 13 | N6: La data di nascita non è valida
C7: Arancio-verde | K7: Anno limite JK: | L7: =Anno_limite_under_15+2 -> 2014 | N7: Manca la cintura
C8: Verde | K8: Cintura limite JK: | L8: Verde | N8: Indicare se fa kata individuale
C9: Verde-blu | K9: Nr cintura limite JK: | L9: =MATCH(L8,Cintura[Cintura],0) -> 7 | N9: Indicare se fa kumite
C10: Blu | N10: L'atleta non ha meno di 15 anni
C11: Blu-marrone | K11: Quota iscrizione kata O15: | L11: 20 | N11: L'atleta ha meno di 15 anni
C12: Marrone | K12: Quota iscrizione kumite O15: | L12: 20 | N12: Manca atleta 1
C13: Nera 1° dan | K13: Quota iscrizione entrambi O15: | L13: 30 | N13: Manca atleta 2
C14: Nera 2° dan | K14: Quota iscrizione coppia O15: | L14: 10 | N14: Un atleta appare più volte
C15: Nera 3° dan | N15: Cintura troppo alta
C16: Nera 4° dan | N16: ="Per JK minimo "&Eta_limite_JK&" anni e cintura "&LOWER(Cintura_limite_JK) -> Per JK minimo 13 anni e cintura verde
C17: Nera 5° dan | N17: ="Per JK minimo cintura "&LOWER(Cintura_limite_JK) -> Per JK minimo cintura verde
